BEGIN:VCALENDAR
VERSION:2.0
PRODID:-//AENGES Farming Academy - ECPv6.15.16//NONSGML v1.0//EN
CALSCALE:GREGORIAN
METHOD:PUBLISH
X-ORIGINAL-URL:https://aenges.org/wp
X-WR-CALDESC:Events for AENGES Farming Academy
REFRESH-INTERVAL;VALUE=DURATION:PT1H
X-Robots-Tag:noindex
X-PUBLISHED-TTL:PT1H
BEGIN:VTIMEZONE
TZID:Africa/Harare
BEGIN:STANDARD
TZOFFSETFROM:+0200
TZOFFSETTO:+0200
TZNAME:CAT
DTSTART:20250101T000000
END:STANDARD
END:VTIMEZONE
BEGIN:VEVENT
DTSTART;TZID=Africa/Harare:20260105T080000
DTEND;TZID=Africa/Harare:20260106T170000
DTSTAMP:20260419T230459
CREATED:20250806T002839Z
LAST-MODIFIED:20250806T002839Z
UID:853-1767600000-1767718800@aenges.org
SUMMARY:Farm Goal Setting Masterclass Workshop
DESCRIPTION:Curious about how you can plan your farm’s future with clear\, actionable goals? Set your farm on a path to success with our Farm Goal Setting Masterclass.
URL:https://aenges.org/wp/event/farm-goal-setting-masterclass-workshop/
LOCATION:Zimre Park\, Ruwa\, 7479 Limpopo Rd\, Zimre Park\, Ruwa\, Ruwa\, 0026\, Zimbabwe
CATEGORIES:Workshop
ATTACH;FMTTYPE=image/png:https://aenges.org/wp/wp-content/uploads/2025/08/27.png
END:VEVENT
BEGIN:VEVENT
DTSTART;TZID=Africa/Harare:20260108T080000
DTEND;TZID=Africa/Harare:20260110T170000
DTSTAMP:20260419T230459
CREATED:20250806T003806Z
LAST-MODIFIED:20250806T063857Z
UID:857-1767859200-1768064400@aenges.org
SUMMARY:Broiler Chicken Production Masterclass Workshop
DESCRIPTION:Master the art of broiler chicken farming with proven strategies for fast growth and high returns.
URL:https://aenges.org/wp/event/broiler-chicken-production-masterclass/
LOCATION:Zimre Park\, Ruwa\, 7479 Limpopo Rd\, Zimre Park\, Ruwa\, Ruwa\, 0026\, Zimbabwe
CATEGORIES:Workshop
ATTACH;FMTTYPE=image/png:https://aenges.org/wp/wp-content/uploads/2025/08/231.png
END:VEVENT
BEGIN:VEVENT
DTSTART;TZID=Africa/Harare:20260113T080000
DTEND;TZID=Africa/Harare:20260115T170000
DTSTAMP:20260419T230459
CREATED:20250804T065503Z
LAST-MODIFIED:20250806T005651Z
UID:593-1768291200-1768496400@aenges.org
SUMMARY:Tomato Production Masterclass Workshop
DESCRIPTION:Master the art of tomato farming with our expert-led course! Learn how to grow high-yield tomatoes\, manage pests\, optimise irrigation\, and build a profitable farm business.
URL:https://aenges.org/wp/event/tomato-production-masterclass-workshop/
LOCATION:Zimre Park\, Ruwa\, 7479 Limpopo Rd\, Zimre Park\, Ruwa\, Ruwa\, 0026\, Zimbabwe
CATEGORIES:Workshop
ATTACH;FMTTYPE=image/png:https://aenges.org/wp/wp-content/uploads/2025/08/278.png
END:VEVENT
END:VCALENDAR