BEGIN:VCALENDAR
VERSION:2.0
PRODID:-//AENGES Farming Academy - ECPv6.15.16//NONSGML v1.0//EN
CALSCALE:GREGORIAN
METHOD:PUBLISH
X-WR-CALNAME:AENGES Farming Academy
X-ORIGINAL-URL:https://aenges.org/wp
X-WR-CALDESC:Events for AENGES Farming Academy
REFRESH-INTERVAL;VALUE=DURATION:PT1H
X-Robots-Tag:noindex
X-PUBLISHED-TTL:PT1H
BEGIN:VTIMEZONE
TZID:Africa/Harare
BEGIN:STANDARD
TZOFFSETFROM:+0200
TZOFFSETTO:+0200
TZNAME:CAT
DTSTART:20250101T000000
END:STANDARD
END:VTIMEZONE
BEGIN:VEVENT
DTSTART;TZID=Africa/Harare:20260505T080000
DTEND;TZID=Africa/Harare:20260506T170000
DTSTAMP:20260419T192446
CREATED:20250806T124509Z
LAST-MODIFIED:20250806T125102Z
UID:927-1777968000-1778086800@aenges.org
SUMMARY:Finance for Non-Finance Farm Managers Masterclass Workshop
DESCRIPTION:Want to understand your farm’s finances without being an accountant? Demystify farm finance with our Finance for Non-Finance Farm Managers Masterclass.
URL:https://aenges.org/wp/event/finance-for-non-finance-farm-managers-masterclass-workshop/
LOCATION:Zimre Park\, Ruwa\, 7479 Limpopo Rd\, Zimre Park\, Ruwa\, Ruwa\, 0026\, Zimbabwe
CATEGORIES:Workshop
ATTACH;FMTTYPE=image/png:https://aenges.org/wp/wp-content/uploads/2025/08/80.png
END:VEVENT
BEGIN:VEVENT
DTSTART;TZID=Africa/Harare:20260507T080000
DTEND;TZID=Africa/Harare:20260509T170000
DTSTAMP:20260419T192446
CREATED:20250806T135900Z
LAST-MODIFIED:20250806T135900Z
UID:971-1778140800-1778346000@aenges.org
SUMMARY:Banana Production Masterclass Workshop
DESCRIPTION:Want to grow high-yielding bananas with precision?
URL:https://aenges.org/wp/event/banana-production-masterclass-workshop/
LOCATION:Zimre Park\, Ruwa\, 7479 Limpopo Rd\, Zimre Park\, Ruwa\, Ruwa\, 0026\, Zimbabwe
CATEGORIES:Workshop
ATTACH;FMTTYPE=image/png:https://aenges.org/wp/wp-content/uploads/2025/08/388.png
END:VEVENT
BEGIN:VEVENT
DTSTART;TZID=Africa/Harare:20260511T080000
DTEND;TZID=Africa/Harare:20260513T080000
DTSTAMP:20260419T192446
CREATED:20250806T130012Z
LAST-MODIFIED:20260222T070554Z
UID:931-1778486400-1778659200@aenges.org
SUMMARY:Beef Herd Production Masterclass Workshop
DESCRIPTION:Want to master beef cattle farming with proven strategies for herd management and profitability? Transform your cattle operation with our Beef Herd Production Masterclass.
URL:https://aenges.org/wp/event/beef-herd-production-masterclass-workshop/
LOCATION:Zimre Park\, Ruwa\, 7479 Limpopo Rd\, Zimre Park\, Ruwa\, Ruwa\, 0026\, Zimbabwe
CATEGORIES:Workshop
ATTACH;FMTTYPE=image/png:https://aenges.org/wp/wp-content/uploads/2025/08/Cattle-Beef-Herd.png
END:VEVENT
BEGIN:VEVENT
DTSTART;TZID=Africa/Harare:20260514T080000
DTEND;TZID=Africa/Harare:20260516T170000
DTSTAMP:20260419T192446
CREATED:20250806T061537Z
LAST-MODIFIED:20260203T081712Z
UID:890-1778745600-1778950800@aenges.org
SUMMARY:Goat Production Masterclass Workshop
DESCRIPTION:Unlock the secrets to profitable goat farming. Explore the full potential of goat farming with our comprehensive Goat Production Masterclass.
URL:https://aenges.org/wp/event/goat-production-masterclass/
LOCATION:Zimre Park\, Ruwa\, 7479 Limpopo Rd\, Zimre Park\, Ruwa\, Ruwa\, 0026\, Zimbabwe
CATEGORIES:Workshop
ATTACH;FMTTYPE=image/png:https://aenges.org/wp/wp-content/uploads/2025/08/170.png
END:VEVENT
BEGIN:VEVENT
DTSTART;TZID=Africa/Harare:20260518T080000
DTEND;TZID=Africa/Harare:20260520T170000
DTSTAMP:20260419T192446
CREATED:20250806T130723Z
LAST-MODIFIED:20260203T081831Z
UID:938-1779091200-1779296400@aenges.org
SUMMARY:Sugar Bean Production Masterclass Workshop
DESCRIPTION:Want to grow protein-rich sugar beans with precision?
URL:https://aenges.org/wp/event/sugar-bean-production-masterclass-workshop/
LOCATION:Zimre Park\, Ruwa\, 7479 Limpopo Rd\, Zimre Park\, Ruwa\, Ruwa\, 0026\, Zimbabwe
CATEGORIES:Workshop
ATTACH;FMTTYPE=image/png:https://aenges.org/wp/wp-content/uploads/2025/08/324.png
END:VEVENT
BEGIN:VEVENT
DTSTART;TZID=Africa/Harare:20260521T080000
DTEND;TZID=Africa/Harare:20260523T170000
DTSTAMP:20260419T192446
CREATED:20250806T132540Z
LAST-MODIFIED:20260203T081932Z
UID:951-1779350400-1779555600@aenges.org
SUMMARY:Cabbage Production Masterclass Workshop
DESCRIPTION:Want to grow crisp\, high-yield cabbage with expert guidance?
URL:https://aenges.org/wp/event/cabbage-production-masterclass-workshop/
LOCATION:Zimre Park\, Ruwa\, 7479 Limpopo Rd\, Zimre Park\, Ruwa\, Ruwa\, 0026\, Zimbabwe
CATEGORIES:Workshop
ATTACH;FMTTYPE=image/png:https://aenges.org/wp/wp-content/uploads/2025/08/362.png
END:VEVENT
END:VCALENDAR