BEGIN:VCALENDAR
VERSION:2.0
PRODID:-//AENGES Farming Academy - ECPv6.15.16//NONSGML v1.0//EN
CALSCALE:GREGORIAN
METHOD:PUBLISH
X-ORIGINAL-URL:https://aenges.org/wp
X-WR-CALDESC:Events for AENGES Farming Academy
REFRESH-INTERVAL;VALUE=DURATION:PT1H
X-Robots-Tag:noindex
X-PUBLISHED-TTL:PT1H
BEGIN:VTIMEZONE
TZID:Africa/Harare
BEGIN:STANDARD
TZOFFSETFROM:+0200
TZOFFSETTO:+0200
TZNAME:CAT
DTSTART:20240101T000000
END:STANDARD
END:VTIMEZONE
BEGIN:VEVENT
DTSTART;TZID=Africa/Harare:20251104T080000
DTEND;TZID=Africa/Harare:20251106T170000
DTSTAMP:20260420T042713
CREATED:20250808T093845Z
LAST-MODIFIED:20250808T093845Z
UID:1099-1762243200-1762448400@aenges.org
SUMMARY:Bell Pepper Production Masterclass Workshop
DESCRIPTION:Want to grow vibrant\, high-yield bell peppers with precision?
URL:https://aenges.org/wp/event/bell-pepper-production-masterclass-workshop-3/
LOCATION:Zimre Park\, Ruwa\, 7479 Limpopo Rd\, Zimre Park\, Ruwa\, Ruwa\, 0026\, Zimbabwe
CATEGORIES:Workshop
ATTACH;FMTTYPE=image/png:https://aenges.org/wp/wp-content/uploads/2025/08/288.png
END:VEVENT
END:VCALENDAR