BEGIN:VCALENDAR
VERSION:2.0
PRODID:-//AENGES Farming Academy - ECPv6.15.16//NONSGML v1.0//EN
CALSCALE:GREGORIAN
METHOD:PUBLISH
X-ORIGINAL-URL:https://aenges.org/wp
X-WR-CALDESC:Events for AENGES Farming Academy
REFRESH-INTERVAL;VALUE=DURATION:PT1H
X-Robots-Tag:noindex
X-PUBLISHED-TTL:PT1H
BEGIN:VTIMEZONE
TZID:Africa/Harare
BEGIN:STANDARD
TZOFFSETFROM:+0200
TZOFFSETTO:+0200
TZNAME:CAT
DTSTART:20250101T000000
END:STANDARD
END:VTIMEZONE
BEGIN:VEVENT
DTSTART;TZID=Africa/Harare:20260511T080000
DTEND;TZID=Africa/Harare:20260513T080000
DTSTAMP:20260419T211617
CREATED:20250806T130012Z
LAST-MODIFIED:20260222T070554Z
UID:931-1778486400-1778659200@aenges.org
SUMMARY:Beef Herd Production Masterclass Workshop
DESCRIPTION:Want to master beef cattle farming with proven strategies for herd management and profitability? Transform your cattle operation with our Beef Herd Production Masterclass.
URL:https://aenges.org/wp/event/beef-herd-production-masterclass-workshop/
LOCATION:Zimre Park\, Ruwa\, 7479 Limpopo Rd\, Zimre Park\, Ruwa\, Ruwa\, 0026\, Zimbabwe
CATEGORIES:Workshop
ATTACH;FMTTYPE=image/png:https://aenges.org/wp/wp-content/uploads/2025/08/Cattle-Beef-Herd.png
END:VEVENT
END:VCALENDAR