BEGIN:VCALENDAR
VERSION:2.0
PRODID:-//AENGES Farming Academy - ECPv6.15.16//NONSGML v1.0//EN
CALSCALE:GREGORIAN
METHOD:PUBLISH
X-WR-CALNAME:AENGES Farming Academy
X-ORIGINAL-URL:https://aenges.org/wp
X-WR-CALDESC:Events for AENGES Farming Academy
REFRESH-INTERVAL;VALUE=DURATION:PT1H
X-Robots-Tag:noindex
X-PUBLISHED-TTL:PT1H
BEGIN:VTIMEZONE
TZID:Africa/Harare
BEGIN:STANDARD
TZOFFSETFROM:+0200
TZOFFSETTO:+0200
TZNAME:CAT
DTSTART:20250101T000000
END:STANDARD
END:VTIMEZONE
BEGIN:VEVENT
DTSTART;TZID=Africa/Harare:20260521T080000
DTEND;TZID=Africa/Harare:20260523T170000
DTSTAMP:20260419T211144
CREATED:20250806T132540Z
LAST-MODIFIED:20260203T081932Z
UID:951-1779350400-1779555600@aenges.org
SUMMARY:Cabbage Production Masterclass Workshop
DESCRIPTION:Want to grow crisp\, high-yield cabbage with expert guidance?
URL:https://aenges.org/wp/event/cabbage-production-masterclass-workshop/
LOCATION:Zimre Park\, Ruwa\, 7479 Limpopo Rd\, Zimre Park\, Ruwa\, Ruwa\, 0026\, Zimbabwe
CATEGORIES:Workshop
ATTACH;FMTTYPE=image/png:https://aenges.org/wp/wp-content/uploads/2025/08/362.png
END:VEVENT
END:VCALENDAR