BEGIN:VCALENDAR
VERSION:2.0
PRODID:-//AENGES Farming Academy - ECPv6.15.16//NONSGML v1.0//EN
CALSCALE:GREGORIAN
METHOD:PUBLISH
X-ORIGINAL-URL:https://aenges.org/wp
X-WR-CALDESC:Events for AENGES Farming Academy
REFRESH-INTERVAL;VALUE=DURATION:PT1H
X-Robots-Tag:noindex
X-PUBLISHED-TTL:PT1H
BEGIN:VTIMEZONE
TZID:Africa/Harare
BEGIN:STANDARD
TZOFFSETFROM:+0200
TZOFFSETTO:+0200
TZNAME:CAT
DTSTART:20250101T000000
END:STANDARD
END:VTIMEZONE
BEGIN:VEVENT
DTSTART;TZID=Africa/Harare:20260825T080000
DTEND;TZID=Africa/Harare:20260827T170000
DTSTAMP:20260420T022112
CREATED:20250807T064538Z
LAST-MODIFIED:20250807T064538Z
UID:1007-1787644800-1787850000@aenges.org
SUMMARY:Cucumber Production Masterclass Workshop
DESCRIPTION:Want to grow profitable\, high-yield cucumbers with expert techniques?
URL:https://aenges.org/wp/event/cucumber-production-masterclass-workshop/
LOCATION:Zimre Park\, Ruwa\, 7479 Limpopo Rd\, Zimre Park\, Ruwa\, Ruwa\, 0026\, Zimbabwe
CATEGORIES:Workshop
ATTACH;FMTTYPE=image/png:https://aenges.org/wp/wp-content/uploads/2025/08/386-1.png
END:VEVENT
END:VCALENDAR