BEGIN:VCALENDAR
VERSION:2.0
PRODID:-//AENGES Farming Academy - ECPv6.15.16//NONSGML v1.0//EN
CALSCALE:GREGORIAN
METHOD:PUBLISH
X-WR-CALNAME:AENGES Farming Academy
X-ORIGINAL-URL:https://aenges.org/wp
X-WR-CALDESC:Events for AENGES Farming Academy
REFRESH-INTERVAL;VALUE=DURATION:PT1H
X-Robots-Tag:noindex
X-PUBLISHED-TTL:PT1H
BEGIN:VTIMEZONE
TZID:Africa/Harare
BEGIN:STANDARD
TZOFFSETFROM:+0200
TZOFFSETTO:+0200
TZNAME:CAT
DTSTART:20250101T000000
END:STANDARD
END:VTIMEZONE
BEGIN:VEVENT
DTSTART;TZID=Africa/Harare:20260922T080000
DTEND;TZID=Africa/Harare:20260924T170000
DTSTAMP:20260419T192418
CREATED:20250807T093909Z
LAST-MODIFIED:20250807T093909Z
UID:1026-1790064000-1790269200@aenges.org
SUMMARY:Mustard Greens (Tsunga) Masterclass Workshop
DESCRIPTION:Want to grow nutritious mustard greens (tsunga) with expert guidance?
URL:https://aenges.org/wp/event/mustard-greens-tsunga-masterclass-workshop/
LOCATION:Zimre Park\, Ruwa\, 7479 Limpopo Rd\, Zimre Park\, Ruwa\, Ruwa\, 0026\, Zimbabwe
CATEGORIES:Workshop
ATTACH;FMTTYPE=image/png:https://aenges.org/wp/wp-content/uploads/2025/08/386-5.png
END:VEVENT
BEGIN:VEVENT
DTSTART;TZID=Africa/Harare:20260929T080000
DTEND;TZID=Africa/Harare:20261001T170000
DTSTAMP:20260419T192418
CREATED:20250807T094551Z
LAST-MODIFIED:20250807T094551Z
UID:1030-1790668800-1790874000@aenges.org
SUMMARY:Onion Production Masterclass Workshop
DESCRIPTION:Want to grow flavourful\, market-ready onions with precision?
URL:https://aenges.org/wp/event/onion-production-masterclass-workshop/
LOCATION:Zimre Park\, Ruwa\, 7479 Limpopo Rd\, Zimre Park\, Ruwa\, Ruwa\, 0026\, Zimbabwe
CATEGORIES:Workshop
ATTACH;FMTTYPE=image/png:https://aenges.org/wp/wp-content/uploads/2025/08/334.png
END:VEVENT
BEGIN:VEVENT
DTSTART;TZID=Africa/Harare:20261006T080000
DTEND;TZID=Africa/Harare:20261008T170000
DTSTAMP:20260419T192418
CREATED:20250807T095925Z
LAST-MODIFIED:20250807T095925Z
UID:1034-1791273600-1791478800@aenges.org
SUMMARY:Finance for Non-Finance Farm Managers Masterclass Workshop
DESCRIPTION:Want to understand your farm’s finances without being an accountant? Demystify farm finance with our Finance for Non-Finance Farm Managers Masterclass.
URL:https://aenges.org/wp/event/finance-for-non-finance-farm-managers-masterclass-workshop-2/
LOCATION:Zimre Park\, Ruwa\, 7479 Limpopo Rd\, Zimre Park\, Ruwa\, Ruwa\, 0026\, Zimbabwe
CATEGORIES:Workshop
ATTACH;FMTTYPE=image/png:https://aenges.org/wp/wp-content/uploads/2025/08/80.png
END:VEVENT
BEGIN:VEVENT
DTSTART;TZID=Africa/Harare:20261013T080000
DTEND;TZID=Africa/Harare:20261015T170000
DTSTAMP:20260419T192418
CREATED:20250807T100524Z
LAST-MODIFIED:20250807T100524Z
UID:1038-1791878400-1792083600@aenges.org
SUMMARY:Broiler Chicken Production Masterclass Workshop
DESCRIPTION:Master the art of broiler chicken farming with proven strategies for fast growth and high returns.
URL:https://aenges.org/wp/event/broiler-chicken-production-masterclass-workshop/
LOCATION:Zimre Park\, Ruwa\, 7479 Limpopo Rd\, Zimre Park\, Ruwa\, Ruwa\, 0026\, Zimbabwe
CATEGORIES:Workshop
ATTACH;FMTTYPE=image/png:https://aenges.org/wp/wp-content/uploads/2025/08/229.png
END:VEVENT
BEGIN:VEVENT
DTSTART;TZID=Africa/Harare:20261020T080000
DTEND;TZID=Africa/Harare:20261022T170000
DTSTAMP:20260419T192418
CREATED:20250808T092533Z
LAST-MODIFIED:20250808T092533Z
UID:1091-1792483200-1792688400@aenges.org
SUMMARY:Potato Production Masterclass Workshop
DESCRIPTION:Want to grow high-profit potatoes with precision? This masterclass equips you with the tools to succeed in commercial potato farming.
URL:https://aenges.org/wp/event/potato-production-masterclass-workshop-2/
LOCATION:Zimre Park\, Ruwa\, 7479 Limpopo Rd\, Zimre Park\, Ruwa\, Ruwa\, 0026\, Zimbabwe
CATEGORIES:Workshop
ATTACH;FMTTYPE=image/png:https://aenges.org/wp/wp-content/uploads/2025/08/314.png
END:VEVENT
BEGIN:VEVENT
DTSTART;TZID=Africa/Harare:20261027T080000
DTEND;TZID=Africa/Harare:20261029T170000
DTSTAMP:20260419T192418
CREATED:20250807T101340Z
LAST-MODIFIED:20250807T101340Z
UID:1046-1793088000-1793293200@aenges.org
SUMMARY:Carrot Production Masterclass Workshop
DESCRIPTION:Want to cultivate sweet\, crunchy carrots with expert guidance?
URL:https://aenges.org/wp/event/carrot-production-masterclass-workshop-2/
LOCATION:Zimre Park\, Ruwa\, 7479 Limpopo Rd\, Zimre Park\, Ruwa\, Ruwa\, 0026\, Zimbabwe
CATEGORIES:Workshop
ATTACH;FMTTYPE=image/png:https://aenges.org/wp/wp-content/uploads/2025/08/386-3.png
END:VEVENT
BEGIN:VEVENT
DTSTART;TZID=Africa/Harare:20261103T080000
DTEND;TZID=Africa/Harare:20261104T170000
DTSTAMP:20260419T192418
CREATED:20250807T101912Z
LAST-MODIFIED:20250807T101912Z
UID:1050-1793692800-1793811600@aenges.org
SUMMARY:Layer Chicken Production Masterclass
DESCRIPTION:Turn your poultry venture into a reliable income stream with our Layer Chicken Production Masterclass.
URL:https://aenges.org/wp/event/layer-chicken-production-masterclass/
LOCATION:Zimre Park\, Ruwa\, 7479 Limpopo Rd\, Zimre Park\, Ruwa\, Ruwa\, 0026\, Zimbabwe
CATEGORIES:Workshop
ATTACH;FMTTYPE=image/png:https://aenges.org/wp/wp-content/uploads/2025/08/249.png
END:VEVENT
BEGIN:VEVENT
DTSTART;TZID=Africa/Harare:20261110T080000
DTEND;TZID=Africa/Harare:20261112T170000
DTSTAMP:20260419T192418
CREATED:20250807T102351Z
LAST-MODIFIED:20260222T070209Z
UID:1055-1794297600-1794502800@aenges.org
SUMMARY:Cattle Pen Fattening Masterclass Workshop
DESCRIPTION:Want to learn how to fatten cattle efficiently and profitably? Boost your beef margins with our Cattle Pen Fattening Masterclass.
URL:https://aenges.org/wp/event/cattle-pen-fattening-masterclass-workshop-2/
LOCATION:Zimre Park\, Ruwa\, 7479 Limpopo Rd\, Zimre Park\, Ruwa\, Ruwa\, 0026\, Zimbabwe
CATEGORIES:Workshop
ATTACH;FMTTYPE=image/png:https://aenges.org/wp/wp-content/uploads/2025/08/Cattle-Pen-Fattening.png
END:VEVENT
BEGIN:VEVENT
DTSTART;TZID=Africa/Harare:20261116T080000
DTEND;TZID=Africa/Harare:20261118T170000
DTSTAMP:20260419T192418
CREATED:20250807T103827Z
LAST-MODIFIED:20250807T105042Z
UID:1059-1794816000-1795021200@aenges.org
SUMMARY:Bell Pepper Production Masterclass Workshop
DESCRIPTION:Want to grow vibrant\, high-yield bell peppers with precision?
URL:https://aenges.org/wp/event/bell-pepper-production-masterclass-workshop-2/
LOCATION:Zimre Park\, Ruwa\, 7479 Limpopo Rd\, Zimre Park\, Ruwa\, Ruwa\, 0026\, Zimbabwe
CATEGORIES:Workshop
ATTACH;FMTTYPE=image/png:https://aenges.org/wp/wp-content/uploads/2025/08/286.png
END:VEVENT
BEGIN:VEVENT
DTSTART;TZID=Africa/Harare:20261119T080000
DTEND;TZID=Africa/Harare:20261121T170000
DTSTAMP:20260419T192418
CREATED:20250807T104857Z
LAST-MODIFIED:20250807T104857Z
UID:1067-1795075200-1795280400@aenges.org
SUMMARY:Rapeseed Greens Production Masterclass
DESCRIPTION:Want to cultivate nutritious rape greens with expert guidance?
URL:https://aenges.org/wp/event/rapeseed-greens-production-masterclass/
LOCATION:Zimre Park\, Ruwa\, 7479 Limpopo Rd\, Zimre Park\, Ruwa\, Ruwa\, 0026\, Zimbabwe
CATEGORIES:Workshop
ATTACH;FMTTYPE=image/png:https://aenges.org/wp/wp-content/uploads/2025/08/346.png
END:VEVENT
BEGIN:VEVENT
DTSTART;TZID=Africa/Harare:20261124T080000
DTEND;TZID=Africa/Harare:20261126T170000
DTSTAMP:20260419T192418
CREATED:20250807T104146Z
LAST-MODIFIED:20250807T104146Z
UID:1063-1795507200-1795712400@aenges.org
SUMMARY:Banana Production Masterclass Workshop
DESCRIPTION:Want to grow high-yielding bananas with precision?
URL:https://aenges.org/wp/event/banana-production-masterclass-workshop-2/
LOCATION:Zimre Park\, Ruwa\, 7479 Limpopo Rd\, Zimre Park\, Ruwa\, Ruwa\, 0026\, Zimbabwe
CATEGORIES:Workshop
ATTACH;FMTTYPE=image/png:https://aenges.org/wp/wp-content/uploads/2025/08/390.png
END:VEVENT
BEGIN:VEVENT
DTSTART;TZID=Africa/Harare:20261201T080000
DTEND;TZID=Africa/Harare:20261202T170000
DTSTAMP:20260419T192418
CREATED:20250807T105549Z
LAST-MODIFIED:20250807T105549Z
UID:1071-1796112000-1796230800@aenges.org
SUMMARY:Honey Production Masterclass Workshop
DESCRIPTION:Want to learn the art of beekeeping and honey production? Step into the world of sustainable beekeeping with our Honey Production Masterclass.
URL:https://aenges.org/wp/event/honey-production-masterclass-workshop-2/
LOCATION:Zimre Park\, Ruwa\, 7479 Limpopo Rd\, Zimre Park\, Ruwa\, Ruwa\, 0026\, Zimbabwe
CATEGORIES:Workshop
ATTACH;FMTTYPE=image/png:https://aenges.org/wp/wp-content/uploads/2025/08/155.png
END:VEVENT
BEGIN:VEVENT
DTSTART;TZID=Africa/Harare:20261207T080000
DTEND;TZID=Africa/Harare:20261208T170000
DTSTAMP:20260419T192418
CREATED:20250807T105956Z
LAST-MODIFIED:20250807T105956Z
UID:1075-1796630400-1796749200@aenges.org
SUMMARY:Farm Goal Setting Masterclass Workshop
DESCRIPTION:Curious about how you can plan your farm’s future with clear\, actionable goals? Set your farm on a path to success with our Farm Goal Setting Masterclass.
URL:https://aenges.org/wp/event/farm-goal-setting-masterclass-workshop-2/
LOCATION:Zimre Park\, Ruwa\, 7479 Limpopo Rd\, Zimre Park\, Ruwa\, Ruwa\, 0026\, Zimbabwe
CATEGORIES:Workshop
ATTACH;FMTTYPE=image/png:https://aenges.org/wp/wp-content/uploads/2025/08/23.png
END:VEVENT
BEGIN:VEVENT
DTSTART;TZID=Africa/Harare:20261210T080000
DTEND;TZID=Africa/Harare:20261212T170000
DTSTAMP:20260419T192418
CREATED:20250807T111130Z
LAST-MODIFIED:20250807T111130Z
UID:1079-1796889600-1797094800@aenges.org
SUMMARY:Beef Herd Production Masterclass Workshop
DESCRIPTION:Want to master beef cattle farming with proven strategies for herd management and profitability? Transform your cattle operation with our Beef Herd Production Masterclass.
URL:https://aenges.org/wp/event/beef-herd-production-masterclass-workshop-2/
LOCATION:Zimre Park\, Ruwa\, 7479 Limpopo Rd\, Zimre Park\, Ruwa\, Ruwa\, 0026\, Zimbabwe
CATEGORIES:Workshop
ATTACH;FMTTYPE=image/png:https://aenges.org/wp/wp-content/uploads/2025/08/201.png
END:VEVENT
BEGIN:VEVENT
DTSTART;TZID=Africa/Harare:20261214T080000
DTEND;TZID=Africa/Harare:20261216T170000
DTSTAMP:20260419T192418
CREATED:20250807T111702Z
LAST-MODIFIED:20250807T111702Z
UID:1083-1797235200-1797440400@aenges.org
SUMMARY:Sweet Potato Production Masterclass Workshop
DESCRIPTION:Want to grow nutritious\, high-yield sweet potatoes with expert techniques?
URL:https://aenges.org/wp/event/sweet-potato-production-masterclass-workshop/
LOCATION:Zimre Park\, Ruwa\, 7479 Limpopo Rd\, Zimre Park\, Ruwa\, Ruwa\, 0026\, Zimbabwe
CATEGORIES:Workshop
ATTACH;FMTTYPE=image/png:https://aenges.org/wp/wp-content/uploads/2025/08/319.png
END:VEVENT
BEGIN:VEVENT
DTSTART;TZID=Africa/Harare:20261217T080000
DTEND;TZID=Africa/Harare:20261219T170000
DTSTAMP:20260419T192418
CREATED:20250807T112032Z
LAST-MODIFIED:20250807T112032Z
UID:1087-1797494400-1797699600@aenges.org
SUMMARY:Cucumber Production Masterclass Workshop
DESCRIPTION:Want to grow profitable\, high-yield cucumbers with expert techniques?
URL:https://aenges.org/wp/event/cucumber-production-masterclass-workshop-2/
LOCATION:Zimre Park\, Ruwa\, 7479 Limpopo Rd\, Zimre Park\, Ruwa\, Ruwa\, 0026\, Zimbabwe
CATEGORIES:Workshop
ATTACH;FMTTYPE=image/png:https://aenges.org/wp/wp-content/uploads/2025/08/390-1.png
END:VEVENT
END:VCALENDAR